Workbook

Sheet PORTADA
A58: APUS DE OTROS DEPARTAMENTOS EN: https: //www.invias.gov.co/index.php/informacion-institucional/hechos-de-transparencia/analisis-de-precio-unitarios

Sheet ACLARACION

Sheet INDICE
A1: INSTITUTO NACIONAL DE VÍAS DIRECCIÓN TÉCNICA
A2: ITEM | B2: DESCRIPCION ACTIVIDAD | C2: UNIDAD | D2: COSTO TOTAL (Moneda $ Pesos)
A3: 200.1 | B3: DESMONTE Y LIMPIEZA EN BOSQUE | C3: ='200.1'!L31 -> Ha | D3: =VLOOKUP('200.1'!A88,'200.1'!A36:N107,14,FALSE) -> 3713661.6
A4: 200.2 | B4: DESMONTE Y LIMPIEZA EN ZONAS NO BOSCOSAS | C4: Ha | D4: =VLOOKUP('200.2'!A88,'200.2'!A37:N108,14,FALSE) -> 204791.84
A5: 201.1 | B5: DEMOLICIÓN DE EDIFICACIONES | C5: gl | D5: =VLOOKUP('201.1'!A88,'201.1'!A38:N109,14,FALSE) -> 171748.84
A6: 201.2 | B6: DEMOLICIÓN DE ESTRUCTURAS | C6: gl | D6: =VLOOKUP('201.2'!A88,'201.2'!A39:N110,14,FALSE) -> 137314.14
A7: 201.3 | B7: DEMOLICIÓN DE PAVIMENTOS RÍGIDOS, PISOS, ANDENES Y BORDILLOS DE CONCRETO | C7: gl | D7: =VLOOKUP('201.3'!A88,'201.3'!A40:N111,14,FALSE) -> 42627.445
A8: 201.4 | B8: DEMOLICIÓN DE OBSTÁCULOS | C8: gl | D8: =VLOOKUP('201.4'!A88,'201.4'!A41:N112,14,FALSE) -> 53241.929
A9: 201.5 | B9: DEMOLICIÓN DE EDIFICACIONES | C9: Unidad | D9: =VLOOKUP('201.5'!A88,'201.5'!A42:N113,14,FALSE) -> 171748.84
A10: 201.6 | B10: DEMOLICIÓN DE ESTRUCTURAS | C10: Unidad | D10: =VLOOKUP('201.6'!A88,'201.6'!A43:N114,14,FALSE) -> 137314.14
A11: 201.7 | B11: DEMOLICIÓN DE ESTRUCTURAS | C11: m3 | D11: =VLOOKUP('201.7'!A88,'201.7'!A44:N115,14,FALSE) -> 134790.41
A12: 201.8 | B12: DEMOLICIÓN DE PAVIMENTOS RÍGIDOS | C12: m2 | D12: =VLOOKUP('201.8'!A88,'201.8'!A45:N116,14,FALSE) -> 17922.344
A13: 201.9 | B13: DEMOLICIÓN DE PISOS Y ANDENES DE CONCRETO | C13: m2 | D13: =VLOOKUP('201.9'!A88,'201.9'!A46:N117,14,FALSE) -> 17663.821
A14: 201.10 | B14: DEMOLICIÓN DE BORDILLOS DE CONCRETO | C14: m | D14: =VLOOKUP('201.10'!A88,'201.10'!A47:N118,14,FALSE) -> 5786.6641
A15: 201.11 | B15: DESMONTAJE Y TRASLADO DE ESTRUCTURAS METÁLICAS | C15: Kg | D15: =VLOOKUP('201.11'!A88,'201.11'!A48:N119,14,FALSE) -> 1411.5852
A16: 201.12 | B16: REMOCIÓN DE ESPECIES VEGETALES | C16: Unidad | D16: =VLOOKUP('201.12'!A88,'201.12'!A49:N120,14,FALSE) -> 90316.67
A17: 201.13 | B17: REMOCIÓN DE OBSTÁCULOS (SE DEBERÁ HACER UN ÍTEM DE PAGO PARA CADA TIPO DE OBSTÁCULO) | C17: Unidad | D17: =VLOOKUP('201.13'!A88,'201.13'!A50:N121,14,FALSE) -> 109183.22
A18: 201.14 | B18: REMOCIÓN DE DUCTOS DE SERVICIOS EXISTENTES | C18: m | D18: =VLOOKUP('201.14'!A88,'201.14'!A51:N122,14,FALSE) -> 36128.9
A19: 201.15 | B19: REMOCIÓN DE ALCANTARILLAS | C19: m | D19: =VLOOKUP('201.15'!A88,'201.15'!A52:N123,14,FALSE) -> 44040.788
A20: 201.16 | B20: REMOCIÓN DE CERCAS DE ALAMBRE | C20: m | D20: =VLOOKUP('201.16'!A88,'201.16'!A53:N124,14,FALSE) -> 1734.7825
A21: 201.17 | B21: TRASLADO DE POSTES | C21: Unidad | D21: =VLOOKUP('201.17'!A88,'201.17'!A54:N125,14,FALSE) -> 59753.217
A22: 201.18 | B22: TRASLADO DE TORRES | C22: Unidad | D22: =VLOOKUP('201.18'!A88,'201.18'!A55:N126,14,FALSE) -> 59753.217
A23: 201.19 | B23: REMOCIÓN DE RIELES | C23: m | D23: =VLOOKUP('201.19'!A88,'201.19'!A56:N127,14,FALSE) -> 4478.3692
A24: 201.20 | B24: REMOCIÓN DE DEFENSAS METÁLICAS | C24: m | D24: =VLOOKUP('201.20'!A88,'201.20'!A57:N128,14,FALSE) -> 726.78279
A25: 201.21 | B25: REMOCIÓN DE BARRERAS DE SEGURIDAD | C25: m | D25: =VLOOKUP('201.21'!A88,'201.21'!A58:N129,14,FALSE) -> 5644.6688
A26: 203.1 | B26: TRANSPLANTE DE ARBOLES TIPO I TRASLADO CORTO | C26: Unidad | D26: =VLOOKUP('203.1'!A88,'203.1'!A59:N130,14,FALSE) -> 870610.74
A27: 203.2 | B27: TRANSPLANTE DE ARBOLES TIPO I TRASLADO LARGO | C27: Unidad | D27: =VLOOKUP('203.2'!A88,'203.2'!A60:N131,14,FALSE) -> 1064812
A28: 203.3 | B28: TRANSPLANTE DE ARBOLES TIPO I TRASLADO ESPECIAL | C28: Unidad | D28: =VLOOKUP('203.3'!A88,'203.3'!A61:N132,14,FALSE) -> 1203527.1
A29: 203.4 | B29: TRANSPLANTE DE ARBOLES TIPO II TRASLADO CORTO | C29: Unidad | D29: =VLOOKUP('203.4'!A88,'203.4'!A62:N133,14,FALSE) -> 565927.05
A30: 203.5 | B30: TRANSPLANTE DE ARBOLES TIPO II. TRASLADO LARGO | C30: Unidad | D30: =VLOOKUP('203.5'!A88,'203.5'!A63:N134,14,FALSE) -> 656925.31
A31: 203.6 | B31: TRANSPLANTE DE ARBOLES TIPO II TRASLADO ESPECIAL | C31: Unidad | D31: =VLOOKUP('203.6'!A88,'203.6'!A64:N135,14,FALSE) -> 714833.3
A32: 203.7 | B32: TRANSPLANTE DE ARBOLES TIPO III TRASLADO CORTO | C32: Unidad | D32: =VLOOKUP('203.7'!A88,'203.7'!A65:N136,14,FALSE) -> 213484.93
A33: 203.8 | B33: TRANSPLANTE DE ARBOLES TIPO III TRASLADO LARGO | C33: Unidad | D33: =VLOOKUP('203.8'!A88,'203.8'!A66:N137,14,FALSE) -> 318928.36
A34: 203.9 | B34: TRANSPLANTE DE ARBOLES TIPO III TRASLADO ESPECIAL | C34: Unidad | D34: =VLOOKUP('203.9'!A88,'203.9'!A67:N138,14,FALSE) -> 338861.08
A35: 203.10 | B35: TRANSPLANTE DE ARBOLES TIPO IV TRASLADO CORTO | C35: Unidad | D35: =VLOOKUP('203.10'!A88,'203.10'!A68:N139,14,FALSE) -> 165098.06
A36: 203.11 | B36: TRANSPLANTE DE ARBOLES TIPO IV TRASLADO LARGO | C36: Unidad | D36: =VLOOKUP('203.11'!A88,'203.11'!A69:N140,14,FALSE) -> 237385.39
A37: 203.12 | B37: TRANSPLANTE DE ARBOLES TIPO IV TRASLADO ESPECIAL | C37: Unidad | D37: =VLOOKUP('203.12'!A88,'203.12'!A70:N141,14,FALSE) -> 247740.05
A38: 210.1.1 | B38: EXCAVACIÓN SIN CLASIFICAR DE LA EXPLANACIÓN Y CANALES | C38: m3 | D38: =VLOOKUP('210.1.1'!A88,'210.1.1'!A71:N142,14,FALSE) -> 9216.9343
A39: 210.1.2 | B39: EXCAVACIÓN SIN CLASIFICAR DE PRÉSTAMOS | C39: m3 | D39: =VLOOKUP('210.1.2'!A88,'210.1.2'!A72:N143,14,FALSE) -> 3044.0373
A40: 210.2.1 | B40: EXCAVACIÓN EN ROCA DE LA EXPLANACIÓN Y CANALES | C40: m3 | D40: =VLOOKUP('210.2.1'!A90,'210.2.1'!A73:N144,14,FALSE) -> 20411.529
...

Sheet MANO DE OBRA
A1: INSTITUTO NACIONAL DE VÍAS DIRECCIÓN TÉCNICA
A3: MANO DE OBRA INCLUIDO FACTOR PRESTACIONAL
D7: Moneda (Pesos $)
A8: A0100130 | B8: día | C8: Armador | D8: 50041.803
A9: A0100150 | B9: día | C9: Ayudante | D9: 45492.548
A10: A0010010 | B10: día | C10: Cadenero | D10: 59140.313
A11: A0100181 | B11: día | C11: Calculista | D11: 343360
A12: A0100140 | B12: día | C12: Cortador | D12: 68238.822
A13: A0100010 | B13: día | C13: Cuadrilla de desmontaje (10 personas) | D13: 500418.03
A14: A0100180 | B14: día | C14: Cuadrilla de fabricación | D14: 272955.29
A15: A0041004 | B15: día | C15: Cuadrilla de Un Oficial y (2) Obreros. | D15: 181970.19
A16: A0041006 | B16: día | C16: Cuadrilla de un oficial y (4) Obreros. | D16: 272955.29
A17: A0100170 | B17: día | C17: Dibujante | D17: 90985.097
A18: A0100182 | B18: día | C18: Dibujante 2 | D18: 81886.587
A19: A0100120 | B19: u | C19: Estudios, análisis e informes | D19: 1819701.9
... A67: A0040110 | B67: día | C67: Celador | D67: 45492.548

Sheet EQUIPOS
A1: INSTITUTO NACIONAL DE VÍAS DIRECCIÓN TÉCNICA
A3: EQUIPOS
C6: EQUIPOS VARIOS | D6: Moneda ($ Pesos)
A7: C0010011 | B7: u | C7: Andamiaje para Aplicar la Carga (Equipos Sustituto de la Tara) | D7: 47481.75
A8: C0010010 | B8: h | C8: Aspersor manual | D8: 1852.7263
A9: C0010020 | B9: h | C9: Barredora mecánica de cepillo de 3658 mm ; 6 m3 | D9: 47726.474
A10: C0010030 | B10: h | C10: Bomba de concreto, Producción: 30 m3/h, POTENCIA: 67 HP, MAX PRESION DE CONCRETO: 1150 PSI | D10: 45220
A11: C0010040 | B11: h | C11: Bomba de inyección de lechada | D11: 19035
A12: C0010034 | B12: h | C12: Bomba eléctrica para accionar la celda | D12: 46300
A13: C0010050 | B13: h | C13: Bomba para gato de tensionamiento | D13: 47587.5
A14: C0010053 | B14: h | C14: Buldozer Potencia al volante de 305 HP, motor de 2100 RPM, longitud de hoja 6,39m. | D14: 206212.5
A15: C0010052 | B15: h | C15: Buldozer, Potencia al volante de 140 HP, motor de 2200 RPM, longitud de hoja 4,80m. | D15: 196350
A16: C0010051 | B16: h | C16: Buldozer, Potencia al volante de 80 HP, motor de 2400 RPM, longitud de hoja 3,99m, | D16: 130900
A17: C0010961 | B17: h | C17: Caldera para pintura termoplástica | D17: 60277.5
A18: C0010090 | B18: h | C18: Calentador a gas | D18: 64375
... A154: C0010960 | B154: h | C154: Volqueta 6 m3 | D154: 62500

Sheet MATERIALES
A1: INSTITUTO NACIONAL DE VÍAS DIRECCIÓN TÉCNICA
A2: MATERIALES
C4: MATERIALES
D5: Moneda ($ Pesos)
A6: B0020001 | B6: kg | C6: Acero A-36 para estructura metálica | D6: 3719.49
A7: B0020004 | B7: kg | C7: Acero A-37 | D7: 3124
A8: B0020002 | B8: kg | C8: Acero A-40 | D8: 3147.7124
A9: B0020003 | B9: kg | C9: Acero PDR-60 | D9: 2856
A10: B002001 | B10: kg | C10: Acero suministrado y figurado PDR 60 | D10: 3000
A11: B003003 | B11: kg | C11: Aditivo Acelerante de Fraguado | D11: 12100
A12: B0030001 | B12: kg | C12: Aditivo curador | D12: 6297.9898
A13: B0043070 | B13: u | C13: Adoquín color 10X20X6 | D13: 950
A14: B0043080 | B14: m2 | C14: Adoquín e=8cm | D14: 43710
A15: B0043090 | B15: u | C15: Adoquín grama 10X20X6 | D15: 740.86608
A16: B0043071 | B16: m2 | C16: Adoquín Gris E=10 Cm | D16: 47500
A17: B0063201 | B17: lt | C17: Aglomerante Estabilizador | D17: 10252.549
... A372: B0015361 | B372: kg | C372: Varilla 5/8 | D372: 2500

Sheet TRANSPORTE
A1: INSTITUTO NACIONAL DE VÍAS DIRECCIÓN TÉCNICA
A2: TRANSPORTE
A6: T0010031 | B6: m3k | C6: Transporte de Material de Remoción | D6: =+'900.2'!$N$78 -> 946.9697
A7: T0010234 | B7: m3k | C7: Transporte de Mezcla Abierta en Frio MAF-38 | D7: =+'900.2'!$N$78 -> 946.9697
A8: T0010272 | B8: m3k | C8: Transporte de Mezcla densa en Caliente MDC-25 | D8: =+'900.2'!$N$78 -> 946.9697
A9: T0010002 | B9: tkm | C9: Transporte de agregado | D9: =+'900.2'!$N$78 -> 946.9697
A10: T0010400 | B10: m3k | C10: Transporte de agregado pétreo | D10: =+'900.2'!$N$78 -> 946.9697
A11: T0010170 | B11: m3k | C11: Transporte de agregado tipo LA-1 | D11: =+'900.2'!$N$78 -> 946.9697
A12: T0010180 | B12: m3k | C12: Transporte de agregado tipo LA-2 | D12: =+'900.2'!$N$78 -> 946.9697
A13: T0010190 | B13: m3k | C13: Transporte de agregado tipo LA-3 | D13: =+'900.2'!$N$78 -> 946.9697
A14: T0010200 | B14: m3k | C14: Transporte de agregado tipo LA-4 | D14: =+'900.2'!$N$78 -> 946.9697
A15: T0010110 | B15: m3k | C15: Transporte de agregados pétreos | D15: =+'900.2'!$N$78 -> 946.9697
A16: T0010003 | B16: m3k | C16: Transporte de Arena | D16: =+'900.2'!$N$78 -> 946.9697
A17: T0010004 | B17: m3k | C17: Transporte de arena | D17: =+'900.2'!$N$78 -> 946.9697
... A92: T0010038 | B92: m3k | C92: Trasporte de material Remoción de Postes | D92: =+'900.2'!$N$78 -> 946.9697
A93: T0015012 | B93: km | C93: Equipo de Transporte (Camiones Grúas | D93: 54.73806
A94: T0010440 | B94: u | C94: Pasajes aéreos | D94: 300000
A95: T0010001 | B95: tkm | C95: Transporte de acero | D95: 0.29694158
A96: T0010011 | B96: m3k | C96: Transporte de Adoquín e=8cm | D96: 1172.1089
A97: T0010053 | B97: m3k | C97: Transporte de barrera de seguridad | D97: 1120
A98: T0010008 | B98: u | C98: Transporte de defensa | D98: 22100
A99: T0010021 | B99: m3k | C99: Transporte de Defensa Metálica | D99: 1015
A100: T0010120 | B100: m3t | C100: Transporte de emulsión | D100: 1050
A101: T0010420 | B101: m3k | C101: Transporte de equipos | D101: 3631.2924
A102: T0010421 | B102: g | C102: Transporte de Equipos para Prueba (1) | D102: 129350
A103: T0010162 | B103: kgk | C103: Transporte de estructura metálica (En Obra) | D103: 0.448
A104: T0010160 | B104: kgk | C104: Transporte de estructuras metálicas | D104: 0.29694158
... A117: T0010081 | B117: u | C117: Trasporte de Torre | D117: 503370

Sheet MINFRA-MN-IN-10-FR-1
J1: CÓDIGO | K1: MINFRA-MN-IN-10-FR-1
B2: INSTITUTO NACIONAL DE VIAS
B3: PROCESO GESTIÓN DE LA INFRAESTRUCTURA VIAL | J3: VERSIÓN | K3: 1
B4: MANUAL DE INTERVENTORÍA OBRA PÚBLICA
B5: ANÁLISIS DE PRECIOS UNITARIOS | J5: PÁGINA | L5: DE
J8: FECHA
K9: (Día) | L9: (Mes) | M9: (Año)
A10: ITEMS DE LA PROPUESTA ECONÓMICA | E10: □ | H10: ITEMS NO PREVISTOS | J10: □
A11: UNIDAD EJECUTORA: | I11: DIRECCIÓN TERRITORIAL:
A14: CONTRATO No. | C14: DE
A15: OBJETO DEL CONTRATO:
A18: CARRETERA: | I18: SECTOR:
A20: CONTRATISTA:
A22: INTERVENTOR: | J22: CTO No.: | L22: DE
A24: FECHA CIERRE PROCESO DE SELECCIÓN CONTRATO DE OBRA:
E25: (Día) | H25: (Mes) | I25: (Año)
A27: DATOS ESPECÍFICOS
A29: ITEM | B29: DESCRIPCIÓN | J29: GRUPO DE AJUSTE | K29: UNIDAD | M29: CANTIDAD
A32: I. EQUIPO
A34: DESCRIPCIÓN | H34: TIPO | J34: TARIFA/HORA | K34: RENDIMIENTO | M34: Vr. UNITARIO
A37: SUBTOTAL $ | M37: 0
A39: II. MATERIALES
A41: DESCRIPCIÓN | I41: UNIDAD | J41: CANTIDAD | K41: PRECIO UNIT. | M41: Vr. UNITARIO
A44: SUBTOTAL $ | M44: 0
A46: III. TRANSPORTES
A48: MATERIAL | G48: UNIDAD | H48: CANTIDAD (1) | I48: DISTANCIA (2) | J48: CANTIDAD * DISTANCIA (1) * (2) | K48: TARIFA | M48: Vr. UNITARIO
A51: SUBTOTAL $ | M51: 0
A53: IV. MANO DE OBRA
A55: DESCRIPCIÓN | H55: JORNAL | I55: PRESTACIONES | J55: JORNAL TOTAL | K55: RENDIMIENTO | M55: Vr. UNITARIO
A58: SUBTOTAL $ | M58: 0
A60: TOTAL COSTO DIRECTO $ | M60: 0
A62: V. COSTOS INDIRECTOS
A64: DESCRIPCIÓN | J64: Porcentaje | K64: Valor Total
A65: ADMINISTRACIÓN
A66: IMPREVISTOS
A67: UTILIDAD
A68: SUBTOTAL $ | M68: 0
A70: Precio Unitario Total Aproximado al peso $ | M70: =ROUND(M60+M68,0) -> 0
D75: Firma
D76: Nombre:
...

Sheet 200.1
K1: CÓDIGO | L1: MINFRA-MN-IN-10-FR-1
C2: INSTITUTO NACIONAL DE VIAS
C3: PROCESO GESTIÓN DE LA INFRAESTRUCTURA VIAL | K3: VERSIÓN | L3: 1
C4: MANUAL DE INTERVENTORÍA OBRA PÚBLICA
C5: ANÁLISIS DE PRECIOS UNITARIOS | K5: PÁGINA | M5: DE
K8: FECHA
L9: (Día) | M9: (Mes) | N9: (Año)
B10: ITEMS DE LA PROPUESTA ECONÓMICA | F10: □ | I10: ITEMS NO PREVISTOS | K10: □
B11: UNIDAD EJECUTORA: | J11: DIRECCIÓN TERRITORIAL:
B14: CONTRATO No. | D14: DE
B15: OBJETO DEL CONTRATO:
B18: CARRETERA: | J18: SECTOR:
B20: CONTRATISTA:
B22: INTERVENTOR: | K22: CTO No.: | M22: DE
B24: FECHA CIERRE PROCESO DE SELECCIÓN CONTRATO DE OBRA:
F25: (Día) | I25: (Mes) | J25: (Año)
B27: DATOS ESPECÍFICOS
B29: ITEM | C29: DESCRIPCIÓN | K29: GRUPO DE AJUSTE | L29: UNIDAD | N29: CANTIDAD
B30: ITEM | C30: DESCRIPCIÓN | L30: UNIDAD | N30: CANTIDAD
A31: Unidad | B31: 200.1 | C31: DESMONTE Y LIMPIEZA EN BOSQUE | L31: Ha
B33: I. EQUIPO
B35: DESCRIPCIÓN | I35: TIPO | K35: TARIFA/HORA | L35: RENDIMIENTO | N35: Vr. UNITARIO
A36: C0010052 | B36: =VLOOKUP(A36,EQUIPOS!A6:D154,3,FALSE) -> Buldozer, Potencia al volante de 140 HP, motor de 2200 RPM, longitud de hoja 4,80m. | K36: =VLOOKUP(A36,EQUIPOS!A6:D161,4,FALSE) -> 196350 | M36: 0.15 | N36: =K36/M36 -> 1309000
A37: C0010140 | B37: =VLOOKUP(A37,EQUIPOS!A7:D154,3,FALSE) -> Cargador : Potencia en el volante 125 hp, Clasificación de RPM del motor 2300. | K37: =VLOOKUP(A37,EQUIPOS!A7:D162,4,FALSE) -> 196350 | M37: 0.15 | N37: =K37/M37 -> 1309000
A38: C0010620 | B38: =VLOOKUP(A38,EQUIPOS!A8:D154,3,FALSE) -> Motosierra, 93.6 cm3 - 7.1 HP, 45-90 cm - 7.9 kg | K38: =VLOOKUP(A38,EQUIPOS!A8:D163,4,FALSE) -> 6752.2472 | M38: 0.15 | N38: =K38/M38 -> 45014.981
B42: HERRAMIENTA MENOR (%) | L42: 0.05 | N42: =N76*L42 -> 7582.0914
B43: SUBTOTAL $ | N43: =SUM(N36:N42) -> 2670597.1
B45: II. MATERIALES
B47: DESCRIPCIÓN | J47: UNIDAD | K47: CANTIDAD | L47: PRECIO UNIT. | N47: Vr. UNITARIO
B54: SUBTOTAL $
B56: III. TRANSPORTES
B58: MATERIAL | H58: UNIDAD | I58: CANTIDAD (1) | J58: DISTANCIA (2) | K58: (1) * (2) | L58: TARIFA | N58: Vr. UNITARIO
A59: T0010040 | B59: =VLOOKUP(A59,TRANSPORTE!A5:D94,3,FALSE) -> Transporte de material desmontado | H59: =VLOOKUP(A59,TRANSPORTE!A6:D120,2,FALSE) -> tkm | I59: 35 | J59: 1 | K59: =I59*J59 -> 35 | L59: 983.54 | N59: =K59*L59 -> 34423.9
B65: SUBTOTAL $ | N65: =N59+N60+N61+N62+N63 -> 34423.9
B67: IV. MANO DE OBRA
B69: TRABAJADOR | I69: JORNAL | J69: PRESTACIONES (%) | K69: JORNAL TOTAL | L69: RENDIMIENTO | N69: Vr. UNITARIO
A70: A0030040 | B70: =VLOOKUP(A70,'MANO DE OBRA'!A8:D68,3,FALSE) -> Obrero (4) | I70: =K70/J70*100 -> 98362.267 | J70: 185 | K70: =VLOOKUP(A70,'MANO DE OBRA'!A8:D99,4,FALSE) -> 181970.19 | M70: 1.2 | N70: =K70/M70 -> 151641.83
B76: SUBTOTAL $ | N76: =N70+N71+N72+N73+N74 -> 151641.83
B78: TOTAL COSTO DIRECTO $ | N78: =N43+N54+N65+N76 -> 2856662.8
B80: V. COSTOS INDIRECTOS
...

Sheet 200.2
K1: CÓDIGO | L1: MINFRA-MN-IN-10-FR-1
C2: INSTITUTO NACIONAL DE VIAS
C3: PROCESO GESTIÓN DE LA INFRAESTRUCTURA VIAL | K3: VERSIÓN | L3: 1
C4: MANUAL DE INTERVENTORÍA OBRA PÚBLICA
C5: ANÁLISIS DE PRECIOS UNITARIOS | K5: PÁGINA | M5: DE
K8: FECHA
L9: (Día) | M9: (Mes) | N9: (Año)
B10: ITEMS DE LA PROPUESTA ECONÓMICA | F10: □ | I10: ITEMS NO PREVISTOS | K10: □
B11: UNIDAD EJECUTORA: | J11: DIRECCIÓN TERRITORIAL:
B14: CONTRATO No. | D14: DE
B15: OBJETO DEL CONTRATO:
B18: CARRETERA: | J18: SECTOR:
B20: CONTRATISTA:
B22: INTERVENTOR: | K22: CTO No.: | M22: DE
B24: FECHA CIERRE PROCESO DE SELECCIÓN CONTRATO DE OBRA:
F25: (Día) | I25: (Mes) | J25: (Año)
B27: DATOS ESPECÍFICOS
B29: ITEM | C29: DESCRIPCIÓN | K29: GRUPO DE AJUSTE | L29: UNIDAD | N29: CANTIDAD
B30: ITEM | C30: DESCRIPCIÓN | L30: UNIDAD | N30: CANTIDAD
A31: Unidad | B31: 200.2 | C31: DESMONTE Y LIMPIEZA EN ZONAS NO BOSCOSAS | L31: Ha
B33: I. EQUIPO
B35: DESCRIPCIÓN | I35: TIPO | K35: TARIFA/HORA | L35: RENDIMIENTO | N35: Vr. UNITARIO
A36: C0010530 | B36: =VLOOKUP(A36,EQUIPOS!A6:D154,3,FALSE) -> Guadañadora, Cilindraje 41.5 cm3, Longitud del mango 1450 mm, Peso 7.4 kg | K36: =VLOOKUP(A36,EQUIPOS!A6:D161,4,FALSE) -> 4124.25 | M36: 0.36 | N36: =K36/M36 -> 11456.25
A37: C0010620 | B37: =VLOOKUP(A37,EQUIPOS!A7:D154,3,FALSE) -> Motosierra, 93.6 cm3 - 7.1 HP, 45-90 cm - 7.9 kg | K37: =VLOOKUP(A37,EQUIPOS!A7:D162,4,FALSE) -> 6752.2472 | M37: 0.103 | N37: =K37/M37 -> 65555.798
B42: HERRAMIENTA MENOR (%) | L42: 0.05 | N42: =N76*L42 -> 1579.6024
B43: SUBTOTAL $ | N43: =SUM(N36:N42) -> 78591.651
B45: II. MATERIALES
B47: DESCRIPCIÓN | J47: UNIDAD | K47: CANTIDAD | L47: PRECIO UNIT. | N47: Vr. UNITARIO
B54: SUBTOTAL $
B56: III. TRANSPORTES
B58: MATERIAL | H58: UNIDAD | I58: CANTIDAD (1) | J58: DISTANCIA (2) | K58: (1) * (2) | L58: TARIFA | N58: Vr. UNITARIO
A59: T0010040 | B59: =VLOOKUP(A59,TRANSPORTE!A5:D94,3,FALSE) -> Transporte de material desmontado | H59: =VLOOKUP(A59,TRANSPORTE!A6:D120,2,FALSE) -> tkm | I59: 50 | J59: 1 | K59: =I59*J59 -> 50 | L59: ='900.2'!N78 -> 946.9697 | N59: =K59*L59 -> 47348.485
B65: SUBTOTAL $ | N65: =N59+N60+N61+N62+N63 -> 47348.485
B67: IV. MANO DE OBRA
B69: TRABAJADOR | I69: JORNAL | J69: PRESTACIONES (%) | K69: JORNAL TOTAL | L69: RENDIMIENTO | N69: Vr. UNITARIO
A70: A0030020 | B70: =VLOOKUP(A70,'MANO DE OBRA'!A8:D68,3,FALSE) -> Obrero (2) | I70: =K70/J70*100 -> 49181.133 | J70: 185 | K70: =VLOOKUP(A70,'MANO DE OBRA'!A8:D99,4,FALSE) -> 90985.097 | M70: 2.88 | N70: =K70/M70 -> 31592.047
B76: SUBTOTAL $ | N76: =N70+N71+N72+N73+N74 -> 31592.047
B78: TOTAL COSTO DIRECTO $ | N78: =N43+N54+N65+N76 -> 157532.18
B80: V. COSTOS INDIRECTOS
B82: Descripción | K82: Porcentaje | L82: Valor Total
...

Sheet 201.1
K1: CÓDIGO | L1: MINFRA-MN-IN-10-FR-1
C2: INSTITUTO NACIONAL DE VIAS
C3: PROCESO GESTIÓN DE LA INFRAESTRUCTURA VIAL | K3: VERSIÓN | L3: 1
C4: MANUAL DE INTERVENTORÍA OBRA PÚBLICA
C5: ANÁLISIS DE PRECIOS UNITARIOS | K5: PÁGINA | M5: DE
K8: FECHA
L9: (Día) | M9: (Mes) | N9: (Año)
B10: ITEMS DE LA PROPUESTA ECONÓMICA | F10: □ | I10: ITEMS NO PREVISTOS | K10: □
B11: UNIDAD EJECUTORA: | J11: DIRECCIÓN TERRITORIAL:
B14: CONTRATO No. | D14: DE
B15: OBJETO DEL CONTRATO:
B18: CARRETERA: | J18: SECTOR:
B20: CONTRATISTA:
B22: INTERVENTOR: | K22: CTO No.: | M22: DE
B24: FECHA CIERRE PROCESO DE SELECCIÓN CONTRATO DE OBRA:
F25: (Día) | I25: (Mes) | J25: (Año)
B27: DATOS ESPECÍFICOS
B29: ITEM | C29: DESCRIPCIÓN | K29: GRUPO DE AJUSTE | L29: UNIDAD | N29: CANTIDAD
B30: ITEM | C30: DESCRIPCIÓN | L30: UNIDAD | N30: CANTIDAD
A31: Unidad | B31: 201.1 | C31: DEMOLICIÓN DE EDIFICACIONES | L31: gl
B33: I. EQUIPO
B35: DESCRIPCIÓN | I35: TIPO | K35: TARIFA/HORA | L35: RENDIMIENTO | N35: Vr. UNITARIO
A36: C0010140 | B36: =VLOOKUP(A36,EQUIPOS!A6:D154,3,FALSE) -> Cargador : Potencia en el volante 125 hp, Clasificación de RPM del motor 2300. | K36: =VLOOKUP(A36,EQUIPOS!A6:D161,4,FALSE) -> 196350 | M36: 2.375 | N36: =K36/M36 -> 82673.684
A37: C0010270 | B37: =VLOOKUP(A37,EQUIPOS!A7:D154,3,FALSE) -> Compresor 120 HP, con martillo. | K37: =VLOOKUP(A37,EQUIPOS!A7:D162,4,FALSE) -> 75000 | M37: 2.375 | N37: =K37/M37 -> 31578.947
A38: C0010330 | B38: =VLOOKUP(A38,EQUIPOS!A7:D154,3,FALSE) -> Equipo de oxicorte, Capacidad de corte: hasta 6´´ (152mm) | K38: =VLOOKUP(A38,EQUIPOS!A7:D162,4,FALSE) -> 8896.7365 | M38: 2.375 | N38: =K38/M38 -> 3745.9943
B42: HERRAMIENTA MENOR (%) | L42: 0.1 | N42: =N76*L42 -> 1197.1723
B43: SUBTOTAL $ | N43: =SUM(N36:N42) -> 119195.8
B45: II. MATERIALES
B47: DESCRIPCIÓN | J47: UNIDAD | K47: CANTIDAD | L47: PRECIO UNIT. | N47: Vr. UNITARIO
B54: SUBTOTAL $
B56: III. TRANSPORTES
B58: MATERIAL | H58: UNIDAD | I58: CANTIDAD (1) | J58: DISTANCIA (2) | K58: (1) * (2) | L58: TARIFA | N58: Vr. UNITARIO
A59: T0010032 | B59: =VLOOKUP(A59,TRANSPORTE!A5:D94,3,FALSE) -> Transporte de material de demolición | H59: =VLOOKUP(A59,TRANSPORTE!A6:D120,2,FALSE) -> m3k | I59: 1 | J59: 1 | K59: =I59*J59 -> 1 | L59: ='900.2'!N78 -> 946.9697 | N59: =K59*L59 -> 946.9697
B65: SUBTOTAL $ | N65: =N59+N60+N61+N62+N63 -> 946.9697
B67: IV. MANO DE OBRA
B69: TRABAJADOR | I69: JORNAL | J69: PRESTACIONES (%) | K69: JORNAL TOTAL | L69: RENDIMIENTO | N69: Vr. UNITARIO
A70: A0030030 | B70: =VLOOKUP(A70,'MANO DE OBRA'!A8:D68,3,FALSE) -> Obrero (3) | I70: =K70/J70*100 -> 73771.7 | J70: 185 | K70: =VLOOKUP(A70,'MANO DE OBRA'!A8:D99,4,FALSE) -> 136477.64 | M70: 19 | N70: =K70/M70 -> 7183.0339
A71: A0040010 | B71: =VLOOKUP(A71,'MANO DE OBRA'!A8:D68,3,FALSE) -> Oficial | I71: =K71/J71*100 -> 49181.133 | J71: 185 | K71: =VLOOKUP(A71,'MANO DE OBRA'!A8:D99,4,FALSE) -> 90985.097 | M71: 19 | N71: =K71/M71 -> 4788.6893
B76: SUBTOTAL $ | N76: =N70+N71+N72+N73+N74 -> 11971.723
B78: TOTAL COSTO DIRECTO $ | N78: =N43+N54+N65+N76 -> 132114.49
...

Sheet 201.2
K1: CÓDIGO | L1: MINFRA-MN-IN-10-FR-1
C2: INSTITUTO NACIONAL DE VIAS
C3: PROCESO GESTIÓN DE LA INFRAESTRUCTURA VIAL | K3: VERSIÓN | L3: 1
C4: MANUAL DE INTERVENTORÍA OBRA PÚBLICA
C5: ANÁLISIS DE PRECIOS UNITARIOS | K5: PÁGINA | M5: DE
K8: FECHA
L9: (Día) | M9: (Mes) | N9: (Año)
B10: ITEMS DE LA PROPUESTA ECONÓMICA | F10: □ | I10: ITEMS NO PREVISTOS | K10: □
B11: UNIDAD EJECUTORA: | J11: DIRECCIÓN TERRITORIAL:
B14: CONTRATO No. | D14: DE
B15: OBJETO DEL CONTRATO:
B18: CARRETERA: | J18: SECTOR:
B20: CONTRATISTA:
B22: INTERVENTOR: | K22: CTO No.: | M22: DE
B24: FECHA CIERRE PROCESO DE SELECCIÓN CONTRATO DE OBRA:
F25: (Día) | I25: (Mes) | J25: (Año)
B27: DATOS ESPECÍFICOS
B29: ITEM | C29: DESCRIPCIÓN | K29: GRUPO DE AJUSTE | L29: UNIDAD | N29: CANTIDAD
B30: ITEM | C30: DESCRIPCIÓN | L30: UNIDAD | N30: CANTIDAD
A31: Unidad | B31: 201.2 | C31: DEMOLICIÓN DE ESTRUCTURAS | L31: gl
B33: I. EQUIPO
B35: DESCRIPCIÓN | I35: TIPO | K35: TARIFA/HORA | L35: RENDIMIENTO | N35: Vr. UNITARIO
A36: C0010790 | B36: =VLOOKUP(A36,EQUIPOS!A6:D154,3,FALSE) -> Retroexcavadora sobre oruga, potencia 138 HP, balde de 1,5 m3. | K36: =VLOOKUP(A36,EQUIPOS!A6:D161,4,FALSE) -> 148800 | M36: 2.5 | N36: =K36/M36 -> 59520
A37: C0010270 | B37: =VLOOKUP(A37,EQUIPOS!A7:D154,3,FALSE) -> Compresor 120 HP, con martillo. | K37: =VLOOKUP(A37,EQUIPOS!A7:D162,4,FALSE) -> 75000 | M37: 2.5 | N37: =K37/M37 -> 30000
A38: C0010330 | B38: =VLOOKUP(A38,EQUIPOS!A8:D154,3,FALSE) -> Equipo de oxicorte, Capacidad de corte: hasta 6´´ (152mm) | K38: =VLOOKUP(A38,EQUIPOS!A8:D163,4,FALSE) -> 8896.7365 | M38: 2.5 | N38: =K38/M38 -> 3558.6946
B42: HERRAMIENTA MENOR (%) | L42: 0.02 | N42: =N76*L42 -> 227.46274
B43: SUBTOTAL $ | N43: =SUM(N36:N42) -> 93306.157
B45: II. MATERIALES
B47: DESCRIPCIÓN | J47: UNIDAD | K47: CANTIDAD | L47: PRECIO UNIT. | N47: Vr. UNITARIO
B54: SUBTOTAL $
B56: III. TRANSPORTES
B58: MATERIAL | H58: UNIDAD | I58: CANTIDAD (1) | J58: DISTANCIA (2) | K58: (1) * (2) | L58: TARIFA | N58: Vr. UNITARIO
A59: T0010032 | B59: =VLOOKUP(A59,TRANSPORTE!A5:D94,3,FALSE) -> Transporte de material de demolición | H59: =VLOOKUP(A59,TRANSPORTE!A6:D120,2,FALSE) -> m3k | I59: 1 | J59: 1 | K59: =I59*J59 -> 1 | L59: ='900.2'!N78 -> 946.9697 | N59: =K59*L59 -> 946.9697
B65: SUBTOTAL $ | N65: =N59+N60+N61+N62+N63 -> 946.9697
B67: IV. MANO DE OBRA
B69: TRABAJADOR | I69: JORNAL | J69: PRESTACIONES (%) | K69: JORNAL TOTAL | L69: RENDIMIENTO | N69: Vr. UNITARIO
A70: A0030030 | B70: =VLOOKUP(A70,'MANO DE OBRA'!A8:D68,3,FALSE) -> Obrero (3) | I70: =K70/J70*100 -> 73771.7 | J70: 185 | K70: =VLOOKUP(A70,'MANO DE OBRA'!A8:D99,4,FALSE) -> 136477.64 | M70: 20 | N70: =K70/M70 -> 6823.8822
A71: A0040010 | B71: =VLOOKUP(A71,'MANO DE OBRA'!A8:D69,3,FALSE) -> Oficial | I71: =K71/J71*100 -> 49181.133 | J71: 185 | K71: =VLOOKUP(A71,'MANO DE OBRA'!A8:D100,4,FALSE) -> 90985.097 | M71: 20 | N71: =K71/M71 -> 4549.2548
B76: SUBTOTAL $ | N76: =N70+N71+N72+N73+N74 -> 11373.137
B78: TOTAL COSTO DIRECTO $ | N78: =N43+N54+N65+N76 -> 105626.26
...

Sheet 201.3
K1: CÓDIGO | L1: MINFRA-MN-IN-10-FR-1
C2: INSTITUTO NACIONAL DE VIAS
C3: PROCESO GESTIÓN DE LA INFRAESTRUCTURA VIAL | K3: VERSIÓN | L3: 1
C4: MANUAL DE INTERVENTORÍA OBRA PÚBLICA
C5: ANÁLISIS DE PRECIOS UNITARIOS | K5: PÁGINA | M5: DE
K8: FECHA
L9: (Día) | M9: (Mes) | N9: (Año)
B10: ITEMS DE LA PROPUESTA ECONÓMICA | F10: □ | I10: ITEMS NO PREVISTOS | K10: □
B11: UNIDAD EJECUTORA: | J11: DIRECCIÓN TERRITORIAL:
B14: CONTRATO No. | D14: DE
B15: OBJETO DEL CONTRATO:
B18: CARRETERA: | J18: SECTOR:
B20: CONTRATISTA:
B22: INTERVENTOR: | K22: CTO No.: | M22: DE
B24: FECHA CIERRE PROCESO DE SELECCIÓN CONTRATO DE OBRA:
F25: (Día) | I25: (Mes) | J25: (Año)
B27: DATOS ESPECÍFICOS
B29: ITEM | C29: DESCRIPCIÓN | K29: GRUPO DE AJUSTE | L29: UNIDAD | N29: CANTIDAD
B30: ITEM | C30: DESCRIPCIÓN | L30: UNIDAD | N30: CANTIDAD
A31: Unidad | B31: 201.3 | C31: DEMOLICIÓN DE PAVIMENTOS RÍGIDOS, PISOS, ANDENES Y BORDILLOS DE CONCRETO | L31: gl
B33: I. EQUIPO
B35: DESCRIPCIÓN | I35: TIPO | K35: TARIFA/HORA | L35: RENDIMIENTO | N35: Vr. UNITARIO
A36: C0010140 | B36: =VLOOKUP(A36,EQUIPOS!A6:D154,3,FALSE) -> Cargador : Potencia en el volante 125 hp, Clasificación de RPM del motor 2300. | K36: =VLOOKUP(A36,EQUIPOS!A6:D161,4,FALSE) -> 196350 | M36: 9.25 | N36: =K36/M36 -> 21227.027
A37: C0010270 | B37: =VLOOKUP(A37,EQUIPOS!A7:D154,3,FALSE) -> Compresor 120 HP, con martillo. | K37: =VLOOKUP(A37,EQUIPOS!A7:D162,4,FALSE) -> 75000 | M37: 9.25 | N37: =K37/M37 -> 8108.1081
B42: HERRAMIENTA MENOR (%) | L42: 0.02 | N42: =N76*L42 -> 49.181133
B43: SUBTOTAL $ | N43: =SUM(N36:N42) -> 29384.316
B45: II. MATERIALES
B47: DESCRIPCIÓN | J47: UNIDAD | K47: CANTIDAD | L47: PRECIO UNIT. | N47: Vr. UNITARIO
B54: SUBTOTAL $
B56: III. TRANSPORTES
B58: MATERIAL | H58: UNIDAD | I58: CANTIDAD (1) | J58: DISTANCIA (2) | K58: (1) * (2) | L58: TARIFA | N58: Vr. UNITARIO
A59: T0010032 | B59: =VLOOKUP(A59,TRANSPORTE!A5:D94,3,FALSE) -> Transporte de material de demolición | H59: =VLOOKUP(A59,TRANSPORTE!A6:D120,2,FALSE) -> m3k | I59: 1 | J59: 1 | K59: =I59*J59 -> 1 | L59: ='900.2'!N78 -> 946.9697 | N59: =K59*L59 -> 946.9697
B65: SUBTOTAL $ | N65: =N59+N60+N61+N62+N63 -> 946.9697
B67: IV. MANO DE OBRA
B69: TRABAJADOR | I69: JORNAL | J69: PRESTACIONES (%) | K69: JORNAL TOTAL | L69: RENDIMIENTO | N69: Vr. UNITARIO
A70: A0030020 | B70: =VLOOKUP(A70,'MANO DE OBRA'!A8:D68,3,FALSE) -> Obrero (2) | I70: =K70/J70*100 -> 49181.133 | J70: 185 | K70: =VLOOKUP(A70,'MANO DE OBRA'!A8:D99,4,FALSE) -> 90985.097 | M70: 74 | N70: =K70/M70 -> 1229.5283
A71: A0040010 | B71: =VLOOKUP(A71,'MANO DE OBRA'!A8:D69,3,FALSE) -> Oficial | I71: =K71/J71*100 -> 49181.133 | J71: 185 | K71: =VLOOKUP(A71,'MANO DE OBRA'!A8:D100,4,FALSE) -> 90985.097 | M71: 74 | N71: =K71/M71 -> 1229.5283
B76: SUBTOTAL $ | N76: =N70+N71+N72+N73+N74 -> 2459.0567
B78: TOTAL COSTO DIRECTO $ | N78: =N43+N54+N65+N76 -> 32790.343
B80: V. COSTOS INDIRECTOS
...

Sheet 201.4
K1: CÓDIGO | L1: MINFRA-MN-IN-10-FR-1
C2: INSTITUTO NACIONAL DE VIAS
C3: PROCESO GESTIÓN DE LA INFRAESTRUCTURA VIAL | K3: VERSIÓN | L3: 1
C4: MANUAL DE INTERVENTORÍA OBRA PÚBLICA
C5: ANÁLISIS DE PRECIOS UNITARIOS | K5: PÁGINA | M5: DE
K8: FECHA
L9: (Día) | M9: (Mes) | N9: (Año)
B10: ITEMS DE LA PROPUESTA ECONÓMICA | F10: □ | I10: ITEMS NO PREVISTOS | K10: □
B11: UNIDAD EJECUTORA: | J11: DIRECCIÓN TERRITORIAL:
B14: CONTRATO No. | D14: DE
B15: OBJETO DEL CONTRATO:
B18: CARRETERA: | J18: SECTOR:
B20: CONTRATISTA:
B22: INTERVENTOR: | K22: CTO No.: | M22: DE
B24: FECHA CIERRE PROCESO DE SELECCIÓN CONTRATO DE OBRA:
F25: (Día) | I25: (Mes) | J25: (Año)
B27: DATOS ESPECÍFICOS
B29: ITEM | C29: DESCRIPCIÓN | K29: GRUPO DE AJUSTE | L29: UNIDAD | N29: CANTIDAD
B30: ITEM | C30: DESCRIPCIÓN | L30: UNIDAD | N30: CANTIDAD
A31: Unidad | B31: 201.4 | C31: DEMOLICIÓN DE OBSTÁCULOS | L31: gl
B33: I. EQUIPO
B35: DESCRIPCIÓN | I35: TIPO | K35: TARIFA/HORA | L35: RENDIMIENTO | N35: Vr. UNITARIO
A36: C0010270 | B36: =VLOOKUP(A36,EQUIPOS!A6:D154,3,FALSE) -> Compresor 120 HP, con martillo. | K36: =VLOOKUP(A36,EQUIPOS!A6:D161,4,FALSE) -> 75000 | M36: 2.5 | N36: =K36/M36 -> 30000
B42: HERRAMIENTA MENOR (%) | L42: 0.1 | N42: =N76*L42 -> 909.85097
B43: SUBTOTAL $ | N43: =SUM(N36:N42) -> 30909.851
B45: II. MATERIALES
B47: DESCRIPCIÓN | J47: UNIDAD | K47: CANTIDAD | L47: PRECIO UNIT. | N47: Vr. UNITARIO
B54: SUBTOTAL $
B56: III. TRANSPORTES
B58: MATERIAL | H58: UNIDAD | I58: CANTIDAD (1) | J58: DISTANCIA (2) | K58: (1) * (2) | L58: TARIFA | N58: Vr. UNITARIO
A59: T0010032 | B59: =VLOOKUP(A59,TRANSPORTE!A5:D94,3,FALSE) -> Transporte de material de demolición | H59: =VLOOKUP(A59,TRANSPORTE!A6:D120,2,FALSE) -> m3k | I59: 1 | J59: 1 | K59: =I59*J59 -> 1 | L59: ='900.2'!N78 -> 946.9697 | N59: =K59*L59 -> 946.9697
B65: SUBTOTAL $ | N65: =N59+N60+N61+N62+N63 -> 946.9697
B67: IV. MANO DE OBRA
B69: TRABAJADOR | I69: JORNAL | J69: PRESTACIONES (%) | K69: JORNAL TOTAL | L69: RENDIMIENTO | N69: Vr. UNITARIO
A70: A0030040 | B70: =VLOOKUP(A70,'MANO DE OBRA'!A8:D68,3,FALSE) -> Obrero (4) | I70: =K70/J70*100 -> 98362.267 | J70: 185 | K70: =VLOOKUP(A70,'MANO DE OBRA'!A8:D99,4,FALSE) -> 181970.19 | M70: 20 | N70: =K70/M70 -> 9098.5097
B76: SUBTOTAL $ | N76: =N70+N71+N72+N73+N74 -> 9098.5097
B78: TOTAL COSTO DIRECTO $ | N78: =N43+N54+N65+N76 -> 40955.33
B80: V. COSTOS INDIRECTOS
B82: Descripción | K82: Porcentaje | L82: Valor Total
B83: ADMINISTRACION | K83: 0.2 | L83: =N78*K83 -> 8191.0661
...

Sheet 201.5
K1: CÓDIGO | L1: MINFRA-MN-IN-10-FR-1
C2: INSTITUTO NACIONAL DE VIAS
C3: PROCESO GESTIÓN DE LA INFRAESTRUCTURA VIAL | K3: VERSIÓN | L3: 1
C4: MANUAL DE INTERVENTORÍA OBRA PÚBLICA
C5: ANÁLISIS DE PRECIOS UNITARIOS | K5: PÁGINA | M5: DE
K8: FECHA
L9: (Día) | M9: (Mes) | N9: (Año)
B10: ITEMS DE LA PROPUESTA ECONÓMICA | F10: □ | I10: ITEMS NO PREVISTOS | K10: □
B11: UNIDAD EJECUTORA: | J11: DIRECCIÓN TERRITORIAL:
B14: CONTRATO No. | D14: DE
B15: OBJETO DEL CONTRATO:
B18: CARRETERA: | J18: SECTOR:
B20: CONTRATISTA:
B22: INTERVENTOR: | K22: CTO No.: | M22: DE
B24: FECHA CIERRE PROCESO DE SELECCIÓN CONTRATO DE OBRA:
F25: (Día) | I25: (Mes) | J25: (Año)
B27: DATOS ESPECÍFICOS
B29: ITEM | C29: DESCRIPCIÓN | K29: GRUPO DE AJUSTE | L29: UNIDAD | N29: CANTIDAD
B30: ITEM | C30: DESCRIPCIÓN | L30: UNIDAD | N30: CANTIDAD
A31: Unidad | B31: 201.5 | C31: DEMOLICIÓN DE EDIFICACIONES | L31: UNIDAD
B33: I. EQUIPO
B35: DESCRIPCIÓN | I35: TIPO | K35: TARIFA/HORA | L35: RENDIMIENTO | N35: Vr. UNITARIO
A36: C0010140 | B36: =VLOOKUP(A36,EQUIPOS!A6:D154,3,FALSE) -> Cargador : Potencia en el volante 125 hp, Clasificación de RPM del motor 2300. | K36: =VLOOKUP(A36,EQUIPOS!A6:D161,4,FALSE) -> 196350 | M36: 2.375 | N36: =K36/M36 -> 82673.684
A37: C0010270 | B37: =VLOOKUP(A37,EQUIPOS!A7:D154,3,FALSE) -> Compresor 120 HP, con martillo. | K37: =VLOOKUP(A37,EQUIPOS!A7:D162,4,FALSE) -> 75000 | M37: 2.375 | N37: =K37/M37 -> 31578.947
A38: C0010330 | B38: =VLOOKUP(A38,EQUIPOS!A8:D154,3,FALSE) -> Equipo de oxicorte, Capacidad de corte: hasta 6´´ (152mm) | K38: =VLOOKUP(A38,EQUIPOS!A8:D163,4,FALSE) -> 8896.7365 | M38: 2.375 | N38: =K38/M38 -> 3745.9943
B42: HERRAMIENTA MENOR (%) | L42: 0.1 | N42: =N76*L42 -> 1197.1723
B43: SUBTOTAL $ | N43: =SUM(N36:N42) -> 119195.8
B45: II. MATERIALES
B47: DESCRIPCIÓN | J47: UNIDAD | K47: CANTIDAD | L47: PRECIO UNIT. | N47: Vr. UNITARIO
B54: SUBTOTAL $
B56: III. TRANSPORTES
B58: MATERIAL | H58: UNIDAD | I58: CANTIDAD (1) | J58: DISTANCIA (2) | K58: (1) * (2) | L58: TARIFA | N58: Vr. UNITARIO
A59: T0010032 | B59: =VLOOKUP(A59,TRANSPORTE!A5:D94,3,FALSE) -> Transporte de material de demolición | H59: =VLOOKUP(A59,TRANSPORTE!A6:D120,2,FALSE) -> m3k | I59: 1 | J59: 1 | K59: =I59*J59 -> 1 | L59: ='900.2'!N78 -> 946.9697 | N59: =K59*L59 -> 946.9697
B65: SUBTOTAL $ | N65: =N59+N60+N61+N62+N63 -> 946.9697
B67: IV. MANO DE OBRA
B69: TRABAJADOR | I69: JORNAL | J69: PRESTACIONES (%) | K69: JORNAL TOTAL | L69: RENDIMIENTO | N69: Vr. UNITARIO
A70: A0030030 | B70: =VLOOKUP(A70,'MANO DE OBRA'!A8:D68,3,FALSE) -> Obrero (3) | I70: =K70/J70*100 -> 73771.7 | J70: 185 | K70: =VLOOKUP(A70,'MANO DE OBRA'!A8:D99,4,FALSE) -> 136477.64 | M70: 19 | N70: =K70/M70 -> 7183.0339
A71: A0040010 | B71: =VLOOKUP(A71,'MANO DE OBRA'!A8:D69,3,FALSE) -> Oficial | I71: =K71/J71*100 -> 49181.133 | J71: 185 | K71: =VLOOKUP(A71,'MANO DE OBRA'!A8:D100,4,FALSE) -> 90985.097 | M71: 19 | N71: =K71/M71 -> 4788.6893
B76: SUBTOTAL $ | N76: =N70+N71+N72+N73+N74 -> 11971.723
B78: TOTAL COSTO DIRECTO $ | N78: =N43+N54+N65+N76 -> 132114.49
...

Sheet 201.6
K1: CÓDIGO | L1: MINFRA-MN-IN-10-FR-1
C2: INSTITUTO NACIONAL DE VIAS
C3: PROCESO GESTIÓN DE LA INFRAESTRUCTURA VIAL | K3: VERSIÓN | L3: 1
C4: MANUAL DE INTERVENTORÍA OBRA PÚBLICA
C5: ANÁLISIS DE PRECIOS UNITARIOS | K5: PÁGINA | M5: DE
K8: FECHA
L9: (Día) | M9: (Mes) | N9: (Año)
B10: ITEMS DE LA PROPUESTA ECONÓMICA | F10: □ | I10: ITEMS NO PREVISTOS | K10: □
B11: UNIDAD EJECUTORA: | J11: DIRECCIÓN TERRITORIAL:
B14: CONTRATO No. | D14: DE
B15: OBJETO DEL CONTRATO:
B18: CARRETERA: | J18: SECTOR:
B20: CONTRATISTA:
B22: INTERVENTOR: | K22: CTO No.: | M22: DE
B24: FECHA CIERRE PROCESO DE SELECCIÓN CONTRATO DE OBRA:
F25: (Día) | I25: (Mes) | J25: (Año)
B27: DATOS ESPECÍFICOS
B29: ITEM | C29: DESCRIPCIÓN | K29: GRUPO DE AJUSTE | L29: UNIDAD | N29: CANTIDAD
B30: ITEM | C30: DESCRIPCIÓN | L30: UNIDAD | N30: CANTIDAD
A31: Unidad | B31: 201.6 | C31: DEMOLICIÓN DE ESTRUCTURAS | L31: UNIDAD
B33: I. EQUIPO
B35: DESCRIPCIÓN | I35: TIPO | K35: TARIFA/HORA | L35: RENDIMIENTO | N35: Vr. UNITARIO
A36: C0010790 | B36: =VLOOKUP(A36,EQUIPOS!A6:D154,3,FALSE) -> Retroexcavadora sobre oruga, potencia 138 HP, balde de 1,5 m3. | K36: =VLOOKUP(A36,EQUIPOS!A6:D161,4,FALSE) -> 148800 | M36: 2.5 | N36: =K36/M36 -> 59520
A37: C0010270 | B37: =VLOOKUP(A37,EQUIPOS!A7:D154,3,FALSE) -> Compresor 120 HP, con martillo. | K37: =VLOOKUP(A37,EQUIPOS!A7:D162,4,FALSE) -> 75000 | M37: 2.5 | N37: =K37/M37 -> 30000
A38: C0010330 | B38: =VLOOKUP(A38,EQUIPOS!A8:D154,3,FALSE) -> Equipo de oxicorte, Capacidad de corte: hasta 6´´ (152mm) | K38: =VLOOKUP(A38,EQUIPOS!A8:D163,4,FALSE) -> 8896.7365 | M38: 2.5 | N38: =K38/M38 -> 3558.6946
B42: HERRAMIENTA MENOR (%) | L42: 0.02 | N42: =N76*L42 -> 227.46274
B43: SUBTOTAL $ | N43: =SUM(N36:N42) -> 93306.157
B45: II. MATERIALES
B47: DESCRIPCIÓN | J47: UNIDAD | K47: CANTIDAD | L47: PRECIO UNIT. | N47: Vr. UNITARIO
B54: SUBTOTAL $
B56: III. TRANSPORTES
B58: MATERIAL | H58: UNIDAD | I58: CANTIDAD (1) | J58: DISTANCIA (2) | K58: (1) * (2) | L58: TARIFA | N58: Vr. UNITARIO
A59: T0010032 | B59: =VLOOKUP(A59,TRANSPORTE!A5:D94,3,FALSE) -> Transporte de material de demolición | H59: =VLOOKUP(A59,TRANSPORTE!A6:D120,2,FALSE) -> m3k | I59: 1 | J59: 1 | K59: =I59*J59 -> 1 | L59: ='900.2'!N78 -> 946.9697 | N59: =K59*L59 -> 946.9697
B65: SUBTOTAL $ | N65: =N59+N60+N61+N62+N63 -> 946.9697
B67: IV. MANO DE OBRA
B69: TRABAJADOR | I69: JORNAL | J69: PRESTACIONES (%) | K69: JORNAL TOTAL | L69: RENDIMIENTO | N69: Vr. UNITARIO
A70: A0030030 | B70: =VLOOKUP(A70,'MANO DE OBRA'!A8:D68,3,FALSE) -> Obrero (3) | I70: =K70/J70*100 -> 73771.7 | J70: 185 | K70: =VLOOKUP(A70,'MANO DE OBRA'!A8:D99,4,FALSE) -> 136477.64 | M70: 20 | N70: =K70/M70 -> 6823.8822
A71: A0040010 | B71: =VLOOKUP(A71,'MANO DE OBRA'!A8:D69,3,FALSE) -> Oficial | I71: =K71/J71*100 -> 49181.133 | J71: 185 | K71: =VLOOKUP(A71,'MANO DE OBRA'!A8:D100,4,FALSE) -> 90985.097 | M71: 20 | N71: =K71/M71 -> 4549.2548
B76: SUBTOTAL $ | N76: =SUM(N70:N75) -> 11373.137
B78: TOTAL COSTO DIRECTO $ | N78: =N43+N54+N65+N76 -> 105626.26
...

Sheet 201.7
K1: CÓDIGO | L1: MINFRA-MN-IN-10-FR-1
C2: INSTITUTO NACIONAL DE VIAS
C3: PROCESO GESTIÓN DE LA INFRAESTRUCTURA VIAL | K3: VERSIÓN | L3: 1
C4: MANUAL DE INTERVENTORÍA OBRA PÚBLICA
C5: ANÁLISIS DE PRECIOS UNITARIOS | K5: PÁGINA | M5: DE
K8: FECHA
L9: (Día) | M9: (Mes) | N9: (Año)
B10: ITEMS DE LA PROPUESTA ECONÓMICA | F10: □ | I10: ITEMS NO PREVISTOS | K10: □
B11: UNIDAD EJECUTORA: | J11: DIRECCIÓN TERRITORIAL:
B14: CONTRATO No. | D14: DE
B15: OBJETO DEL CONTRATO:
B18: CARRETERA: | J18: SECTOR:
B20: CONTRATISTA:
B22: INTERVENTOR: | K22: CTO No.: | M22: DE
B24: FECHA CIERRE PROCESO DE SELECCIÓN CONTRATO DE OBRA:
F25: (Día) | I25: (Mes) | J25: (Año)
B27: DATOS ESPECÍFICOS
B29: ITEM | C29: DESCRIPCIÓN | K29: GRUPO DE AJUSTE | L29: UNIDAD | N29: CANTIDAD
B30: ITEM | C30: DESCRIPCIÓN | L30: UNIDAD | N30: CANTIDAD
A31: Unidad | B31: 201.7 | C31: DEMOLICIÓN DE ESTRUCTURAS | L31: m3
B33: I. EQUIPO
B35: DESCRIPCIÓN | I35: TIPO | K35: TARIFA/HORA | L35: RENDIMIENTO | N35: Vr. UNITARIO
A36: C0010790 | B36: =VLOOKUP(A36,EQUIPOS!A6:D154,3,FALSE) -> Retroexcavadora sobre oruga, potencia 138 HP, balde de 1,5 m3. | K36: =VLOOKUP(A36,EQUIPOS!A6:D161,4,FALSE) -> 148800 | M36: 2.5 | N36: =K36/M36 -> 59520
A37: C0010270 | B37: =VLOOKUP(A37,EQUIPOS!A7:D154,3,FALSE) -> Compresor 120 HP, con martillo. | K37: =VLOOKUP(A37,EQUIPOS!A7:D162,4,FALSE) -> 75000 | M37: 2.5 | N37: =K37/M37 -> 30000
A38: C0010330 | B38: =VLOOKUP(A38,EQUIPOS!A8:D154,3,FALSE) -> Equipo de oxicorte, Capacidad de corte: hasta 6´´ (152mm) | K38: =VLOOKUP(A38,EQUIPOS!A8:D163,4,FALSE) -> 8896.7365 | M38: 2.5 | N38: =K38/M38 -> 3558.6946
B42: HERRAMIENTA MENOR (%) | L42: 0.02 | N42: =N76*L42 -> 181.97019
B43: SUBTOTAL $ | N43: =SUM(N36:N42) -> 93260.665
B45: II. MATERIALES
B47: DESCRIPCIÓN | J47: UNIDAD | K47: CANTIDAD | L47: PRECIO UNIT. | N47: Vr. UNITARIO
B54: SUBTOTAL $
B56: III. TRANSPORTES
B58: MATERIAL | H58: UNIDAD | I58: CANTIDAD (1) | J58: DISTANCIA (2) | K58: (1) * (2) | L58: TARIFA | N58: Vr. UNITARIO
A59: T0010032 | B59: =VLOOKUP(A59,TRANSPORTE!A5:D94,3,FALSE) -> Transporte de material de demolición | H59: =VLOOKUP(A59,TRANSPORTE!A6:D120,2,FALSE) -> m3k | I59: 1.4 | J59: 1 | K59: =I59*J59 -> 1.4 | L59: ='900.2'!N78 -> 946.9697 | N59: =K59*L59 -> 1325.7576
B65: SUBTOTAL $ | N65: =N59+N60+N61+N62+N63 -> 1325.7576
B67: IV. MANO DE OBRA
B69: TRABAJADOR | I69: JORNAL | J69: PRESTACIONES (%) | K69: JORNAL TOTAL | L69: RENDIMIENTO | N69: Vr. UNITARIO
A70: A0030020 | B70: =VLOOKUP(A70,'MANO DE OBRA'!A8:D68,3,FALSE) -> Obrero (2) | I70: =K70/J70*100 -> 49181.133 | J70: 185 | K70: =VLOOKUP(A70,'MANO DE OBRA'!A8:D99,4,FALSE) -> 90985.097 | M70: 20 | N70: =K70/M70 -> 4549.2548
A71: A0040010 | B71: =VLOOKUP(A71,'MANO DE OBRA'!A8:D69,3,FALSE) -> Oficial | I71: =K71/J71*100 -> 49181.133 | J71: 185 | K71: =VLOOKUP(A71,'MANO DE OBRA'!A8:D100,4,FALSE) -> 90985.097 | M71: 20 | N71: =K71/M71 -> 4549.2548
B76: SUBTOTAL $ | N76: =SUM(N70:N75) -> 9098.5097
B78: TOTAL COSTO DIRECTO $ | N78: =N43+N54+N65+N76 -> 103684.93
...

Sheet 201.8
K1: CÓDIGO | L1: MINFRA-MN-IN-10-FR-1
C2: INSTITUTO NACIONAL DE VIAS
C3: PROCESO GESTIÓN DE LA INFRAESTRUCTURA VIAL | K3: VERSIÓN | L3: 1
C4: MANUAL DE INTERVENTORÍA OBRA PÚBLICA
C5: ANÁLISIS DE PRECIOS UNITARIOS | K5: PÁGINA | M5: DE
K8: FECHA
L9: (Día) | M9: (Mes) | N9: (Año)
B10: ITEMS DE LA PROPUESTA ECONÓMICA | F10: □ | I10: ITEMS NO PREVISTOS | K10: □
B11: UNIDAD EJECUTORA: | J11: DIRECCIÓN TERRITORIAL:
B14: CONTRATO No. | D14: DE
B15: OBJETO DEL CONTRATO:
B18: CARRETERA: | J18: SECTOR:
B20: CONTRATISTA:
B22: INTERVENTOR: | K22: CTO No.: | M22: DE
B24: FECHA CIERRE PROCESO DE SELECCIÓN CONTRATO DE OBRA:
F25: (Día) | I25: (Mes) | J25: (Año)
B27: DATOS ESPECÍFICOS
B29: ITEM | C29: DESCRIPCIÓN | K29: GRUPO DE AJUSTE | L29: UNIDAD | N29: CANTIDAD
B30: ITEM | C30: DESCRIPCIÓN | L30: UNIDAD | N30: CANTIDAD
A31: Unidad | B31: 201.8 | C31: DEMOLICIÓN DE PAVIMENTOS RÍGIDOS | L31: m2
B33: I. EQUIPO
B35: DESCRIPCIÓN | I35: TIPO | K35: TARIFA/HORA | L35: RENDIMIENTO | N35: Vr. UNITARIO
A36: C0010140 | B36: =VLOOKUP(A36,EQUIPOS!A6:D154,3,FALSE) -> Cargador : Potencia en el volante 125 hp, Clasificación de RPM del motor 2300. | K36: =VLOOKUP(A36,EQUIPOS!A6:D161,4,FALSE) -> 196350 | M36: 22 | N36: =K36/M36 -> 8925
A37: C0010270 | B37: =VLOOKUP(A37,EQUIPOS!A7:D154,3,FALSE) -> Compresor 120 HP, con martillo. | K37: =VLOOKUP(A37,EQUIPOS!A7:D162,4,FALSE) -> 75000 | M37: 22 | N37: =K37/M37 -> 3409.0909
B42: HERRAMIENTA MENOR (%) | L42: 0.02 | N42: =N76*L42 -> 20.678431
B43: SUBTOTAL $ | N43: =SUM(N36:N42) -> 12354.769
B45: II. MATERIALES
B47: DESCRIPCIÓN | J47: UNIDAD | K47: CANTIDAD | L47: PRECIO UNIT. | N47: Vr. UNITARIO
B54: SUBTOTAL $
B56: III. TRANSPORTES
B58: MATERIAL | H58: UNIDAD | I58: CANTIDAD (1) | J58: DISTANCIA (2) | K58: (1) * (2) | L58: TARIFA | N58: Vr. UNITARIO
A59: T0010032 | B59: =VLOOKUP(A59,TRANSPORTE!A5:D94,3,FALSE) -> Transporte de material de demolición | H59: =VLOOKUP(A59,TRANSPORTE!A6:D120,2,FALSE) -> m3k | I59: 0.42 | J59: 1 | K59: =I59*J59 -> 0.42 | L59: ='900.2'!N78 -> 946.9697 | N59: =K59*L59 -> 397.72727
B65: SUBTOTAL $ | N65: =N59+N60+N61+N62+N63 -> 397.72727
B67: IV. MANO DE OBRA
B69: TRABAJADOR | I69: JORNAL | J69: PRESTACIONES (%) | K69: JORNAL TOTAL | L69: RENDIMIENTO | N69: Vr. UNITARIO
A70: A0030020 | B70: =VLOOKUP(A70,'MANO DE OBRA'!A8:D68,3,FALSE) -> Obrero (2) | I70: =K70/J70*100 -> 49181.133 | J70: 185 | K70: =VLOOKUP(A70,'MANO DE OBRA'!A8:D99,4,FALSE) -> 90985.097 | M70: 176 | N70: =K70/M70 -> 516.96078
A71: A0040010 | B71: =VLOOKUP(A71,'MANO DE OBRA'!A8:D69,3,FALSE) -> Oficial | I71: =K71/J71*100 -> 49181.133 | J71: 185 | K71: =VLOOKUP(A71,'MANO DE OBRA'!A8:D100,4,FALSE) -> 90985.097 | M71: 176 | N71: =K71/M71 -> 516.96078
B76: SUBTOTAL $ | N76: =SUM(N70:N75) -> 1033.9216
B78: TOTAL COSTO DIRECTO $ | N78: =N43+N54+N65+N76 -> 13786.418
B80: V. COSTOS INDIRECTOS
...

Sheet 201.9
K1: CÓDIGO | L1: MINFRA-MN-IN-10-FR-1
C2: INSTITUTO NACIONAL DE VIAS
C3: PROCESO GESTIÓN DE LA INFRAESTRUCTURA VIAL | K3: VERSIÓN | L3: 1
C4: MANUAL DE INTERVENTORÍA OBRA PÚBLICA
C5: ANÁLISIS DE PRECIOS UNITARIOS | K5: PÁGINA | M5: DE
K8: FECHA
L9: (Día) | M9: (Mes) | N9: (Año)
B10: ITEMS DE LA PROPUESTA ECONÓMICA | F10: □ | I10: ITEMS NO PREVISTOS | K10: □
B11: UNIDAD EJECUTORA: | J11: DIRECCIÓN TERRITORIAL:
B14: CONTRATO No. | D14: DE
B15: OBJETO DEL CONTRATO:
B18: CARRETERA: | J18: SECTOR:
B20: CONTRATISTA:
B22: INTERVENTOR: | K22: CTO No.: | M22: DE
B24: FECHA CIERRE PROCESO DE SELECCIÓN CONTRATO DE OBRA:
F25: (Día) | I25: (Mes) | J25: (Año)
B27: DATOS ESPECÍFICOS
B29: ITEM | C29: DESCRIPCIÓN | K29: GRUPO DE AJUSTE | L29: UNIDAD | N29: CANTIDAD
B30: ITEM | C30: DESCRIPCIÓN | L30: UNIDAD | N30: CANTIDAD
A31: Unidad | B31: 201.9 | C31: DEMOLICIÓN DE PISOS Y ANDENES DE CONCRETO | L31: m2
B33: I. EQUIPO
B35: DESCRIPCIÓN | I35: TIPO | K35: TARIFA/HORA | L35: RENDIMIENTO | N35: Vr. UNITARIO
A36: C0010140 | B36: =VLOOKUP(A36,EQUIPOS!A6:D154,3,FALSE) -> Cargador : Potencia en el volante 125 hp, Clasificación de RPM del motor 2300. | K36: =VLOOKUP(A36,EQUIPOS!A6:D161,4,FALSE) -> 196350 | M36: 22 | N36: =K36/M36 -> 8925
A37: C0010270 | B37: =VLOOKUP(A37,EQUIPOS!A7:D154,3,FALSE) -> Compresor 120 HP, con martillo. | K37: =VLOOKUP(A37,EQUIPOS!A7:D162,4,FALSE) -> 75000 | M37: 22 | N37: =K37/M37 -> 3409.0909
B42: HERRAMIENTA MENOR (%) | L42: 0.02 | N42: =N76*L42 -> 20.678431
B43: SUBTOTAL $ | N43: =SUM(N36:N42) -> 12354.769
B45: II. MATERIALES
B47: DESCRIPCIÓN | J47: UNIDAD | K47: CANTIDAD | L47: PRECIO UNIT. | N47: Vr. UNITARIO
B54: SUBTOTAL $
B56: III. TRANSPORTES
B58: MATERIAL | H58: UNIDAD | I58: CANTIDAD (1) | J58: DISTANCIA (2) | K58: (1) * (2) | L58: TARIFA | N58: Vr. UNITARIO
A59: T0010032 | B59: =VLOOKUP(A59,TRANSPORTE!A5:D94,3,FALSE) -> Transporte de material de demolición | H59: =VLOOKUP(A59,TRANSPORTE!A6:D120,2,FALSE) -> m3k | I59: 0.21 | J59: 1 | K59: =I59*J59 -> 0.21 | L59: ='900.2'!N78 -> 946.9697 | N59: =K59*L59 -> 198.86364
B65: SUBTOTAL $ | N65: =N59+N60+N61+N62+N63 -> 198.86364
B67: IV. MANO DE OBRA
B69: TRABAJADOR | I69: JORNAL | J69: PRESTACIONES (%) | K69: JORNAL TOTAL | L69: RENDIMIENTO | N69: Vr. UNITARIO
A70: A0030020 | B70: =VLOOKUP(A70,'MANO DE OBRA'!A8:D68,3,FALSE) -> Obrero (2) | I70: =K70/J70*100 -> 49181.133 | J70: 185 | K70: =VLOOKUP(A70,'MANO DE OBRA'!A8:D99,4,FALSE) -> 90985.097 | M70: 176 | N70: =K70/M70 -> 516.96078
A71: A0040010 | B71: =VLOOKUP(A71,'MANO DE OBRA'!A8:D69,3,FALSE) -> Oficial | I71: =K71/J71*100 -> 49181.133 | J71: 185 | K71: =VLOOKUP(A71,'MANO DE OBRA'!A8:D100,4,FALSE) -> 90985.097 | M71: 176 | N71: =K71/M71 -> 516.96078
B76: SUBTOTAL $ | N76: =SUM(N70:N75) -> 1033.9216
B78: TOTAL COSTO DIRECTO $ | N78: =N43+N54+N65+N76 -> 13587.555
B80: V. COSTOS INDIRECTOS
...

Sheet 201.10
K1: CÓDIGO | L1: MINFRA-MN-IN-10-FR-1
C2: INSTITUTO NACIONAL DE VIAS
C3: PROCESO GESTIÓN DE LA INFRAESTRUCTURA VIAL | K3: VERSIÓN | L3: 1
C4: MANUAL DE INTERVENTORÍA OBRA PÚBLICA
C5: ANÁLISIS DE PRECIOS UNITARIOS | K5: PÁGINA | M5: DE
K8: FECHA
L9: (Día) | M9: (Mes) | N9: (Año)
B10: ITEMS DE LA PROPUESTA ECONÓMICA | F10: □ | I10: ITEMS NO PREVISTOS | K10: □
B11: UNIDAD EJECUTORA: | J11: DIRECCIÓN TERRITORIAL:
B14: CONTRATO No. | D14: DE
B15: OBJETO DEL CONTRATO:
B18: CARRETERA: | J18: SECTOR:
B20: CONTRATISTA:
B22: INTERVENTOR: | K22: CTO No.: | M22: DE
B24: FECHA CIERRE PROCESO DE SELECCIÓN CONTRATO DE OBRA:
F25: (Día) | I25: (Mes) | J25: (Año)
B27: DATOS ESPECÍFICOS
B29: ITEM | C29: DESCRIPCIÓN | K29: GRUPO DE AJUSTE | L29: UNIDAD | N29: CANTIDAD
B30: ITEM | C30: DESCRIPCIÓN | L30: UNIDAD | N30: CANTIDAD
A31: Unidad | B31: 201.10 | C31: DEMOLICIÓN DE BORDILLOS DE CONCRETO | L31: m
B33: I. EQUIPO
B35: DESCRIPCIÓN | I35: TIPO | K35: TARIFA/HORA | L35: RENDIMIENTO | N35: Vr. UNITARIO
A36: C0010270 | B36: =VLOOKUP(A36,EQUIPOS!A6:D154,3,FALSE) -> Compresor 120 HP, con martillo. | K36: =VLOOKUP(A36,EQUIPOS!A6:D161,4,FALSE) -> 75000 | M36: 20 | N36: =K36/M36 -> 3750
B42: HERRAMIENTA MENOR (%) | L42: 0.1 | N42: =N76*L42 -> 56.865685
B43: SUBTOTAL $ | N43: =SUM(N36:N42) -> 3806.8657
B45: II. MATERIALES
B47: DESCRIPCIÓN | J47: UNIDAD | K47: CANTIDAD | L47: PRECIO UNIT. | N47: Vr. UNITARIO
B54: SUBTOTAL $
B56: III. TRANSPORTES
B58: MATERIAL | H58: UNIDAD | I58: CANTIDAD (1) | J58: DISTANCIA (2) | K58: (1) * (2) | L58: TARIFA | N58: Vr. UNITARIO
A59: T0010032 | B59: =VLOOKUP(A59,TRANSPORTE!A5:D94,3,FALSE) -> Transporte de material de demolición | H59: =VLOOKUP(A59,TRANSPORTE!A6:D120,2,FALSE) -> m3k | I59: 0.08 | J59: 1 | K59: =I59*J59 -> 0.08 | L59: ='900.2'!N78 -> 946.9697 | N59: =K59*L59 -> 75.757576
B65: SUBTOTAL $ | N65: =N59+N60+N61+N62+N63 -> 75.757576
B67: IV. MANO DE OBRA
B69: TRABAJADOR | I69: JORNAL | J69: PRESTACIONES (%) | K69: JORNAL TOTAL | L69: RENDIMIENTO | N69: Vr. UNITARIO
A70: A0030020 | B70: =VLOOKUP(A70,'MANO DE OBRA'!A8:D68,3,FALSE) -> Obrero (2) | I70: =K70/J70*100 -> 49181.133 | J70: 185 | K70: =VLOOKUP(A70,'MANO DE OBRA'!A8:D99,4,FALSE) -> 90985.097 | M70: 160 | N70: =K70/M70 -> 568.65685
B76: SUBTOTAL $ | N76: =SUM(N70:N75) -> 568.65685
B78: TOTAL COSTO DIRECTO $ | N78: =N43+N54+N65+N76 -> 4451.2801
B80: V. COSTOS INDIRECTOS
B82: Descripción | K82: Porcentaje | L82: Valor Total
B83: ADMINISTRACION | K83: 0.2 | L83: =N78*K83 -> 890.25602
...

Sheet 201.11
K1: CÓDIGO | L1: MINFRA-MN-IN-10-FR-1
C2: INSTITUTO NACIONAL DE VIAS
C3: PROCESO GESTIÓN DE LA INFRAESTRUCTURA VIAL | K3: VERSIÓN | L3: 1
C4: MANUAL DE INTERVENTORÍA OBRA PÚBLICA
C5: ANÁLISIS DE PRECIOS UNITARIOS | K5: PÁGINA | M5: DE
K8: FECHA
L9: (Día) | M9: (Mes) | N9: (Año)
B10: ITEMS DE LA PROPUESTA ECONÓMICA | F10: □ | I10: ITEMS NO PREVISTOS | K10: □
B11: UNIDAD EJECUTORA: | J11: DIRECCIÓN TERRITORIAL:
B14: CONTRATO No. | D14: DE
B15: OBJETO DEL CONTRATO:
B18: CARRETERA: | J18: SECTOR:
B20: CONTRATISTA:
B22: INTERVENTOR: | K22: CTO No.: | M22: DE
B24: FECHA CIERRE PROCESO DE SELECCIÓN CONTRATO DE OBRA:
F25: (Día) | I25: (Mes) | J25: (Año)
B27: DATOS ESPECÍFICOS
B29: ITEM | C29: DESCRIPCIÓN | K29: GRUPO DE AJUSTE | L29: UNIDAD | N29: CANTIDAD
B30: ITEM | C30: DESCRIPCIÓN | L30: UNIDAD | N30: CANTIDAD
A31: Unidad | B31: 201.11 | C31: DESMONTAJE Y TRASLADO DE ESTRUCTURAS METÁLICAS | L31: Kg
B33: I. EQUIPO
B35: DESCRIPCIÓN | I35: TIPO | K35: TARIFA/HORA | L35: RENDIMIENTO | N35: Vr. UNITARIO
A36: C0010330 | B36: =VLOOKUP(A36,EQUIPOS!A6:D154,3,FALSE) -> Equipo de oxicorte, Capacidad de corte: hasta 6´´ (152mm) | K36: =VLOOKUP(A36,EQUIPOS!A6:D161,4,FALSE) -> 8896.7365 | M36: 321 | N36: =K36/M36 -> 27.71569
A37: C0010520 | B37: =VLOOKUP(A37,EQUIPOS!A7:D154,3,FALSE) -> Grúa telescópica de 50 Ton. | K37: =VLOOKUP(A37,EQUIPOS!A7:D162,4,FALSE) -> 289519.1 | M37: 321 | N37: =K37/M37 -> 901.92866
B42: HERRAMIENTA MENOR (%) | L42: 0.1 | N42: =N76*L42 -> 14.172133
B43: SUBTOTAL $ | N43: =SUM(N36:N42) -> 943.81649
B45: II. MATERIALES
B47: DESCRIPCIÓN | J47: UNIDAD | K47: CANTIDAD | L47: PRECIO UNIT. | N47: Vr. UNITARIO
B54: SUBTOTAL $
B56: III. TRANSPORTES
B58: MATERIAL | H58: UNIDAD | I58: CANTIDAD (1) | J58: DISTANCIA (2) | K58: (1) * (2) | L58: TARIFA | N58: Vr. UNITARIO
A59: T0010001 | B59: =VLOOKUP(A59,TRANSPORTE!A5:D117,3,FALSE) -> Transporte de acero | H59: =VLOOKUP(A59,TRANSPORTE!A6:D120,2,FALSE) -> tkm | I59: 1 | J59: 1 | K59: =I59*J59 -> 1 | L59: =VLOOKUP(A59,TRANSPORTE!A5:D120,4,FALSE) -> 0.29694158 | N59: =K59*L59 -> 0.29694158
B65: SUBTOTAL $ | N65: =N59+N60+N61+N62+N63 -> 0.29694158
B67: IV. MANO DE OBRA
B69: TRABAJADOR | I69: JORNAL | J69: PRESTACIONES (%) | K69: JORNAL TOTAL | L69: RENDIMIENTO | N69: Vr. UNITARIO
A70: A0030080 | B70: =VLOOKUP(A70,'MANO DE OBRA'!A8:D68,3,FALSE) -> Obrero (8) | I70: =K70/J70*100 -> 196724.53 | J70: 185 | K70: =VLOOKUP(A70,'MANO DE OBRA'!A8:D99,4,FALSE) -> 363940.39 | M70: 2568 | N70: =K70/M70 -> 141.72133
B76: SUBTOTAL $ | N76: =SUM(N70:N75) -> 141.72133
B78: TOTAL COSTO DIRECTO $ | N78: =N43+N54+N65+N76 -> 1085.8348
B80: V. COSTOS INDIRECTOS
B82: Descripción | K82: Porcentaje | L82: Valor Total
...

Sheet 201.12
K1: CÓDIGO | L1: MINFRA-MN-IN-10-FR-1
C2: INSTITUTO NACIONAL DE VIAS
C3: PROCESO GESTIÓN DE LA INFRAESTRUCTURA VIAL | K3: VERSIÓN | L3: 1
C4: MANUAL DE INTERVENTORÍA OBRA PÚBLICA
C5: ANÁLISIS DE PRECIOS UNITARIOS | K5: PÁGINA | M5: DE
K8: FECHA
L9: (Día) | M9: (Mes) | N9: (Año)
B10: ITEMS DE LA PROPUESTA ECONÓMICA | F10: □ | I10: ITEMS NO PREVISTOS | K10: □
B11: UNIDAD EJECUTORA: | J11: DIRECCIÓN TERRITORIAL:
B14: CONTRATO No. | D14: DE
B15: OBJETO DEL CONTRATO:
B18: CARRETERA: | J18: SECTOR:
B20: CONTRATISTA:
B22: INTERVENTOR: | K22: CTO No.: | M22: DE
B24: FECHA CIERRE PROCESO DE SELECCIÓN CONTRATO DE OBRA:
F25: (Día) | I25: (Mes) | J25: (Año)
B27: DATOS ESPECÍFICOS
B29: ITEM | C29: DESCRIPCIÓN | K29: GRUPO DE AJUSTE | L29: UNIDAD | N29: CANTIDAD
B30: ITEM | C30: DESCRIPCIÓN | L30: UNIDAD | N30: CANTIDAD
A31: Unidad | B31: 201.12 | C31: REMOCIÓN DE ESPECIES VEGETALES | L31: UNIDAD
B33: I. EQUIPO
B35: DESCRIPCIÓN | I35: TIPO | K35: TARIFA/HORA | L35: RENDIMIENTO | N35: Vr. UNITARIO
A36: C0010620 | B36: =VLOOKUP(A36,EQUIPOS!A6:D154,3,FALSE) -> Motosierra, 93.6 cm3 - 7.1 HP, 45-90 cm - 7.9 kg | K36: =VLOOKUP(A36,EQUIPOS!A6:D161,4,FALSE) -> 6752.2472 | M36: 3 | N36: =K36/M36 -> 2250.7491
A37: C0010790 | B37: =VLOOKUP(A37,EQUIPOS!A7:D154,3,FALSE) -> Retroexcavadora sobre oruga, potencia 138 HP, balde de 1,5 m3. | K37: =VLOOKUP(A37,EQUIPOS!A7:D162,4,FALSE) -> 148800 | M37: 3 | N37: =K37/M37 -> 49600
B42: HERRAMIENTA MENOR (%) | L42: 0.05 | N42: =N76*L42 -> 568.65685
B43: SUBTOTAL $ | N43: =SUM(N36:N42) -> 52419.406
B45: II. MATERIALES
B47: DESCRIPCIÓN | J47: UNIDAD | K47: CANTIDAD | L47: PRECIO UNIT. | N47: Vr. UNITARIO
B54: SUBTOTAL $
B56: III. TRANSPORTES
B58: MATERIAL | H58: UNIDAD | I58: CANTIDAD (1) | J58: DISTANCIA (2) | K58: (1) * (2) | L58: TARIFA | N58: Vr. UNITARIO
A59: T0010032 | B59: =VLOOKUP(A59,TRANSPORTE!A5:D117,3,FALSE) -> Transporte de material de demolición | H59: =VLOOKUP(A59,TRANSPORTE!A6:D120,2,FALSE) -> m3k | I59: 6 | J59: 1 | K59: =I59*J59 -> 6 | L59: =VLOOKUP(A59,TRANSPORTE!A5:D94,4,FALSE) -> 946.9697 | N59: =K59*L59 -> 5681.8182
B65: SUBTOTAL $ | N65: =N59+N60+N61+N62+N63 -> 5681.8182
B67: IV. MANO DE OBRA
B69: TRABAJADOR | I69: JORNAL | J69: PRESTACIONES (%) | K69: JORNAL TOTAL | L69: RENDIMIENTO | N69: Vr. UNITARIO
A70: A0040010 | B70: =VLOOKUP(A70,'MANO DE OBRA'!A8:D68,3,FALSE) -> Oficial | I70: =K70/J70*100 -> 49181.133 | J70: 185 | K70: =VLOOKUP(A70,'MANO DE OBRA'!A8:D99,4,FALSE) -> 90985.097 | M70: 24 | N70: =K70/M70 -> 3791.0457
A71: A0030040 | B71: =VLOOKUP(A71,'MANO DE OBRA'!A8:D69,3,FALSE) -> Obrero (4) | I71: =K71/J71*100 -> 98362.267 | J71: 185 | K71: =VLOOKUP(A71,'MANO DE OBRA'!A8:D100,4,FALSE) -> 181970.19 | M71: 24 | N71: =K71/M71 -> 7582.0914
B76: SUBTOTAL $ | N76: =SUM(N70:N75) -> 11373.137
B78: TOTAL COSTO DIRECTO $ | N78: =N43+N54+N65+N76 -> 69474.361
B80: V. COSTOS INDIRECTOS
...

Sheet 201.13
K1: CÓDIGO | L1: MINFRA-MN-IN-10-FR-1
C2: INSTITUTO NACIONAL DE VIAS
C3: PROCESO GESTIÓN DE LA INFRAESTRUCTURA VIAL | K3: VERSIÓN | L3: 1
C4: MANUAL DE INTERVENTORÍA OBRA PÚBLICA
C5: ANÁLISIS DE PRECIOS UNITARIOS | K5: PÁGINA | M5: DE
K8: FECHA
L9: (Día) | M9: (Mes) | N9: (Año)
B10: ITEMS DE LA PROPUESTA ECONÓMICA | F10: □ | I10: ITEMS NO PREVISTOS | K10: □
B11: UNIDAD EJECUTORA: | J11: DIRECCIÓN TERRITORIAL:
B14: CONTRATO No. | D14: DE
B15: OBJETO DEL CONTRATO:
B18: CARRETERA: | J18: SECTOR:
B20: CONTRATISTA:
B22: INTERVENTOR: | K22: CTO No.: | M22: DE
B24: FECHA CIERRE PROCESO DE SELECCIÓN CONTRATO DE OBRA:
F25: (Día) | I25: (Mes) | J25: (Año)
B27: DATOS ESPECÍFICOS
B29: ITEM | C29: DESCRIPCIÓN | K29: GRUPO DE AJUSTE | L29: UNIDAD | N29: CANTIDAD
B30: ITEM | C30: DESCRIPCIÓN | L30: UNIDAD | N30: CANTIDAD
A31: Unidad | B31: 201.13 | C31: REMOCIÓN DE OBSTÁCULOS (SE DEBERÁ HACER UN ÍTEM DE PAGO PARA CADA OBSTÁCULO) | L31: UNIDAD
B33: I. EQUIPO
B35: DESCRIPCIÓN | I35: TIPO | K35: TARIFA/HORA | L35: RENDIMIENTO | N35: Vr. UNITARIO
A36: C0010330 | B36: =VLOOKUP(A36,EQUIPOS!A6:D154,3,FALSE) -> Equipo de oxicorte, Capacidad de corte: hasta 6´´ (152mm) | K36: =VLOOKUP(A36,EQUIPOS!A6:D161,4,FALSE) -> 8896.7365 | M36: 4 | N36: =K36/M36 -> 2224.1841
A37: C0010520 | B37: =VLOOKUP(A37,EQUIPOS!A7:D154,3,FALSE) -> Grúa telescópica de 50 Ton. | K37: =VLOOKUP(A37,EQUIPOS!A7:D162,4,FALSE) -> 289519.1 | M37: 4 | N37: =K37/M37 -> 72379.775
B42: HERRAMIENTA MENOR (%) | L42: 0.1 | N42: =N76*L42 -> 852.98528
B43: SUBTOTAL $ | N43: =SUM(N36:N42) -> 75456.945
B45: II. MATERIALES
B47: DESCRIPCIÓN | J47: UNIDAD | K47: CANTIDAD | L47: PRECIO UNIT. | N47: Vr. UNITARIO
B54: SUBTOTAL $ | N54: =SUM(N48:N53) -> 0
B56: III. TRANSPORTES
B58: MATERIAL | H58: UNIDAD | I58: CANTIDAD (1) | J58: DISTANCIA (2) | K58: (1) * (2) | L58: TARIFA | N58: Vr. UNITARIO
A59: T0010160 | B59: =VLOOKUP(A59,TRANSPORTE!A5:D117,3,FALSE) -> Transporte de estructuras metálicas | H59: =VLOOKUP(A59,TRANSPORTE!A6:D120,2,FALSE) -> kgk | I59: 1 | J59: 1 | K59: =I59*J59 -> 1 | L59: =VLOOKUP(A59,TRANSPORTE!A5:D117,4,FALSE) -> 0.29694158 | N59: =K59*L59 -> 0.29694158
B65: SUBTOTAL $ | N65: =N59+N60+N61+N62+N63 -> 0.29694158
B67: IV. MANO DE OBRA
B69: TRABAJADOR | I69: JORNAL | J69: PRESTACIONES (%) | K69: JORNAL TOTAL | L69: RENDIMIENTO | N69: Vr. UNITARIO
A70: A0040010 | B70: =VLOOKUP(A70,'MANO DE OBRA'!A8:D68,3,FALSE) -> Oficial | I70: =K70/J70*100 -> 49181.133 | J70: 185 | K70: =VLOOKUP(A70,'MANO DE OBRA'!A8:D99,4,FALSE) -> 90985.097 | M70: 32 | N70: =K70/M70 -> 2843.2843
A71: A0030040 | B71: =VLOOKUP(A71,'MANO DE OBRA'!A8:D69,3,FALSE) -> Obrero (4) | I71: =K71/J71*100 -> 98362.267 | J71: 185 | K71: =VLOOKUP(A71,'MANO DE OBRA'!A8:D100,4,FALSE) -> 181970.19 | M71: 32 | N71: =K71/M71 -> 5686.5685
B76: SUBTOTAL $ | N76: =SUM(N70:N75) -> 8529.8528
B78: TOTAL COSTO DIRECTO $ | N78: =N43+N54+N65+N76 -> 83987.094
B80: V. COSTOS INDIRECTOS
...

Sheet 201.14
K1: CÓDIGO | L1: MINFRA-MN-IN-10-FR-1
C2: INSTITUTO NACIONAL DE VIAS
C3: PROCESO GESTIÓN DE LA INFRAESTRUCTURA VIAL | K3: VERSIÓN | L3: 1
C4: MANUAL DE INTERVENTORÍA OBRA PÚBLICA
C5: ANÁLISIS DE PRECIOS UNITARIOS | K5: PÁGINA | M5: DE
K8: FECHA
L9: (Día) | M9: (Mes) | N9: (Año)
B10: ITEMS DE LA PROPUESTA ECONÓMICA | F10: □ | I10: ITEMS NO PREVISTOS | K10: □
B11: UNIDAD EJECUTORA: | J11: DIRECCIÓN TERRITORIAL:
B14: CONTRATO No. | D14: DE
B15: OBJETO DEL CONTRATO:
B18: CARRETERA: | J18: SECTOR:
B20: CONTRATISTA:
B22: INTERVENTOR: | K22: CTO No.: | M22: DE
B24: FECHA CIERRE PROCESO DE SELECCIÓN CONTRATO DE OBRA:
F25: (Día) | I25: (Mes) | J25: (Año)
B27: DATOS ESPECÍFICOS
B29: ITEM | C29: DESCRIPCIÓN | K29: GRUPO DE AJUSTE | L29: UNIDAD | N29: CANTIDAD
B30: ITEM | C30: DESCRIPCIÓN | L30: UNIDAD | N30: CANTIDAD
A31: Unidad | B31: 201.14 | C31: REMOCIÓN DE DUCTOS DE SERVICIOS EXISTENTES | L31: m
B33: I. EQUIPO
B35: DESCRIPCIÓN | I35: TIPO | K35: TARIFA/HORA | L35: RENDIMIENTO | N35: Vr. UNITARIO
A36: C0010765 | B36: =VLOOKUP(A36,EQUIPOS!A6:D154,3,FALSE) -> Retroexcavadora, Potencia en el Volante 78 HP 2200 RPM | K36: =VLOOKUP(A36,EQUIPOS!A6:D161,4,FALSE) -> 112432.24 | M36: 5 | N36: =K36/M36 -> 22486.449
B42: HERRAMIENTA MENOR (%) | L42: 0.02 | N42: =N76*L42 -> 90.985097
B43: SUBTOTAL $ | N43: =SUM(N36:N42) -> 22577.434
B45: II. MATERIALES
B47: DESCRIPCIÓN | J47: UNIDAD | K47: CANTIDAD | L47: PRECIO UNIT. | N47: Vr. UNITARIO
B54: SUBTOTAL $ | N54: =SUM(N48:N53) -> 0
B56: III. TRANSPORTES
B58: MATERIAL | H58: UNIDAD | I58: CANTIDAD (1) | J58: DISTANCIA (2) | K58: (1) * (2) | L58: TARIFA | N58: Vr. UNITARIO
A59: T0010032 | B59: =VLOOKUP(A59,TRANSPORTE!A5:D117,3,FALSE) -> Transporte de material de demolición | H59: =VLOOKUP(A59,TRANSPORTE!A6:D120,2,FALSE) -> m3k | I59: 0.702 | J59: 1 | K59: =I59*J59 -> 0.702 | L59: =VLOOKUP(A59,TRANSPORTE!A5:D94,4,FALSE) -> 946.9697 | N59: =K59*L59 -> 664.77273
B65: SUBTOTAL $ | N65: =N59+N60+N61+N62+N63 -> 664.77273
B67: IV. MANO DE OBRA
B69: TRABAJADOR | I69: JORNAL | J69: PRESTACIONES (%) | K69: JORNAL TOTAL | L69: RENDIMIENTO | N69: Vr. UNITARIO
A70: A0040010 | B70: =VLOOKUP(A70,'MANO DE OBRA'!A8:D68,3,FALSE) -> Oficial | I70: =K70/J70*100 -> 49181.133 | J70: 185 | K70: =VLOOKUP(A70,'MANO DE OBRA'!A8:D99,4,FALSE) -> 90985.097 | M70: 40 | N70: =K70/M70 -> 2274.6274
A71: A0030020 | B71: =VLOOKUP(A71,'MANO DE OBRA'!A8:D69,3,FALSE) -> Obrero (2) | I71: =K71/J71*100 -> 49181.133 | J71: 185 | K71: =VLOOKUP(A71,'MANO DE OBRA'!A8:D100,4,FALSE) -> 90985.097 | M71: 40 | N71: =K71/M71 -> 2274.6274
B76: SUBTOTAL $ | N76: =SUM(N70:N75) -> 4549.2548
B78: TOTAL COSTO DIRECTO $ | N78: =N43+N54+N65+N76 -> 27791.461
B80: V. COSTOS INDIRECTOS
B82: Descripción | K82: Porcentaje | L82: Valor Total
...

Sheet 201.15
K1: CÓDIGO | L1: MINFRA-MN-IN-10-FR-1
C2: INSTITUTO NACIONAL DE VIAS
C3: PROCESO GESTIÓN DE LA INFRAESTRUCTURA VIAL | K3: VERSIÓN | L3: 1
C4: MANUAL DE INTERVENTORÍA OBRA PÚBLICA
C5: ANÁLISIS DE PRECIOS UNITARIOS | K5: PÁGINA | M5: DE
K8: FECHA
L9: (Día) | M9: (Mes) | N9: (Año)
B10: ITEMS DE LA PROPUESTA ECONÓMICA | F10: □ | I10: ITEMS NO PREVISTOS | K10: □
B11: UNIDAD EJECUTORA: | J11: DIRECCIÓN TERRITORIAL:
B14: CONTRATO No. | D14: DE
B15: OBJETO DEL CONTRATO:
B18: CARRETERA: | J18: SECTOR:
B20: CONTRATISTA:
B22: INTERVENTOR: | K22: CTO No.: | M22: DE
B24: FECHA CIERRE PROCESO DE SELECCIÓN CONTRATO DE OBRA:
F25: (Día) | I25: (Mes) | J25: (Año)
B27: DATOS ESPECÍFICOS
B29: ITEM | C29: DESCRIPCIÓN | K29: GRUPO DE AJUSTE | L29: UNIDAD | N29: CANTIDAD
B30: ITEM | C30: DESCRIPCIÓN | L30: UNIDAD | N30: CANTIDAD
A31: Unidad | B31: 201.15 | C31: REMOCIÓN DE ALCANTARILLAS | L31: m
B33: I. EQUIPO
B35: DESCRIPCIÓN | I35: TIPO | K35: TARIFA/HORA | L35: RENDIMIENTO | N35: Vr. UNITARIO
A36: C0010765 | B36: =VLOOKUP(A36,EQUIPOS!A6:D154,3,FALSE) -> Retroexcavadora, Potencia en el Volante 78 HP 2200 RPM | K36: =VLOOKUP(A36,EQUIPOS!A6:D161,4,FALSE) -> 112432.24 | M36: 4 | N36: =K36/M36 -> 28108.061
B42: HERRAMIENTA MENOR (%) | L42: 0.02 | N42: =N76*L42 -> 56.865685
